BEGIN:VCALENDAR
VERSION:2.0
PRODID:icalendar-ruby
CALSCALE:GREGORIAN
METHOD:PUBLISH
BEGIN:VEVENT
DTSTAMP:20260422T213643Z
UID:7-361751@artemuschristianchurch.com
DTSTART:20261101T160000Z
DTEND:20261101T170000Z
CLASS:PUBLIC
CREATED:20260422T171930
DESCRIPTION:Worship Service
LAST-MODIFIED:20260422T171930
LOCATION:
SUMMARY:Worship Service
URL;VALUE=URI:https://www.artemuschristianchurch.com/events/worship-service
 --7/2026-11-01
END:VEVENT
END:VCALENDAR
