BEGIN:VCALENDAR
VERSION:2.0
PRODID:icalendar-ruby
CALSCALE:GREGORIAN
METHOD:PUBLISH
BEGIN:VEVENT
DTSTAMP:20260422T194439Z
UID:7-361466@artemuschristianchurch.com
DTSTART:20261025T150000Z
DTEND:20261025T160000Z
CLASS:PUBLIC
CREATED:20260422T142408
DESCRIPTION:Worship Service
LAST-MODIFIED:20260422T142408
LOCATION:
SUMMARY:Worship Service
URL;VALUE=URI:https://www.artemuschristianchurch.com/events/worship-service
 --7/2026-10-25
END:VEVENT
END:VCALENDAR
