BEGIN:VCALENDAR
VERSION:2.0
PRODID:icalendar-ruby
CALSCALE:GREGORIAN
METHOD:PUBLISH
BEGIN:VEVENT
DTSTAMP:20260422T174959Z
UID:7-361181@artemuschristianchurch.com
DTSTART:20261018T150000Z
DTEND:20261018T160000Z
CLASS:PUBLIC
CREATED:20260422T112929
DESCRIPTION:Worship Service
LAST-MODIFIED:20260422T112929
LOCATION:
SUMMARY:Worship Service
URL;VALUE=URI:https://www.artemuschristianchurch.com/events/worship-service
 --7/2026-10-18
END:VEVENT
END:VCALENDAR
