BEGIN:VCALENDAR
VERSION:2.0
PRODID:icalendar-ruby
CALSCALE:GREGORIAN
METHOD:PUBLISH
BEGIN:VEVENT
DTSTAMP:20260422T143804Z
UID:7-360895@artemuschristianchurch.com
DTSTART:20261004T150000Z
DTEND:20261004T160000Z
CLASS:PUBLIC
CREATED:20260422T083416
DESCRIPTION:Worship Service
LAST-MODIFIED:20260422T083416
LOCATION:
SUMMARY:Worship Service
URL;VALUE=URI:https://www.artemuschristianchurch.com/events/worship-service
 --7/2026-10-04
END:VEVENT
END:VCALENDAR
