BEGIN:VCALENDAR
VERSION:2.0
PRODID:icalendar-ruby
CALSCALE:GREGORIAN
METHOD:PUBLISH
BEGIN:VEVENT
DTSTAMP:20260420T112529Z
UID:7-357200@artemuschristianchurch.com
DTSTART:20260913T150000Z
DTEND:20260913T160000Z
CLASS:PUBLIC
CREATED:20260420T033838
DESCRIPTION:Worship Service
LAST-MODIFIED:20260420T033838
LOCATION:
SUMMARY:Worship Service
URL;VALUE=URI:https://www.artemuschristianchurch.com/events/worship-service
 --7/2026-09-13
END:VEVENT
END:VCALENDAR
