BEGIN:VCALENDAR
VERSION:2.0
PRODID:icalendar-ruby
CALSCALE:GREGORIAN
METHOD:PUBLISH
BEGIN:VEVENT
DTSTAMP:20260419T192108Z
UID:7-356057@artemuschristianchurch.com
DTSTART:20260712T150000Z
DTEND:20260712T160000Z
CLASS:PUBLIC
CREATED:20260419T125930
DESCRIPTION:Worship Service
LAST-MODIFIED:20260419T125930
LOCATION:
SUMMARY:Worship Service
URL;VALUE=URI:https://www.artemuschristianchurch.com/events/worship-service
 --7/2026-07-12
END:VEVENT
END:VCALENDAR
