BEGIN:VCALENDAR
VERSION:2.0
PRODID:icalendar-ruby
CALSCALE:GREGORIAN
METHOD:PUBLISH
BEGIN:VEVENT
DTSTAMP:20260419T142610Z
UID:7-355773@artemuschristianchurch.com
DTSTART:20260621T150000Z
DTEND:20260621T160000Z
CLASS:PUBLIC
CREATED:20260419T091736
DESCRIPTION:Worship Service
LAST-MODIFIED:20260419T091736
LOCATION:
SUMMARY:Worship Service
URL;VALUE=URI:https://www.artemuschristianchurch.com/events/worship-service
 --7/2026-06-21
END:VEVENT
END:VCALENDAR
