BEGIN:VCALENDAR
VERSION:2.0
PRODID:icalendar-ruby
CALSCALE:GREGORIAN
METHOD:PUBLISH
BEGIN:VEVENT
DTSTAMP:20260421T083251Z
UID:7-358891@artemuschristianchurch.com
DTSTART:20260614T150000Z
DTEND:20260614T160000Z
CLASS:PUBLIC
CREATED:20260420T211112
DESCRIPTION:Worship Service
LAST-MODIFIED:20260420T211112
LOCATION:
SUMMARY:Worship Service
URL;VALUE=URI:https://www.artemuschristianchurch.com/events/worship-service
 --7/2026-06-14
END:VEVENT
END:VCALENDAR
