BEGIN:VCALENDAR
VERSION:2.0
PRODID:icalendar-ruby
CALSCALE:GREGORIAN
METHOD:PUBLISH
BEGIN:VEVENT
DTSTAMP:20260422T233814Z
UID:9-361919@artemuschristianchurch.com
DTSTART:20261021T223000Z
DTEND:20261021T233000Z
CLASS:PUBLIC
CREATED:20260422T171930
DESCRIPTION:
LAST-MODIFIED:20260422T171930
LOCATION:
SUMMARY:Wednesday Night Bible Study
URL;VALUE=URI:https://www.artemuschristianchurch.com/events/wednesday-night
 -bible-study/2026-10-21
END:VEVENT
END:VCALENDAR
