BEGIN:VCALENDAR
VERSION:2.0
PRODID:icalendar-ruby
CALSCALE:GREGORIAN
METHOD:PUBLISH
BEGIN:VEVENT
DTSTAMP:20260422T195503Z
UID:9-361633@artemuschristianchurch.com
DTSTART:20261007T223000Z
DTEND:20261007T233000Z
CLASS:PUBLIC
CREATED:20260422T142409
DESCRIPTION:
LAST-MODIFIED:20260422T142409
LOCATION:
SUMMARY:Wednesday Night Bible Study
URL;VALUE=URI:https://www.artemuschristianchurch.com/events/wednesday-night
 -bible-study/2026-10-07
END:VEVENT
END:VCALENDAR
