BEGIN:VCALENDAR
VERSION:2.0
PRODID:icalendar-ruby
CALSCALE:GREGORIAN
METHOD:PUBLISH
BEGIN:VEVENT
DTSTAMP:20260422T135559Z
UID:9-361062@artemuschristianchurch.com
DTSTART:20260916T223000Z
DTEND:20260916T233000Z
CLASS:PUBLIC
CREATED:20260422T083416
DESCRIPTION:
LAST-MODIFIED:20260422T083416
LOCATION:
SUMMARY:Wednesday Night Bible Study
URL;VALUE=URI:https://www.artemuschristianchurch.com/events/wednesday-night
 -bible-study/2026-09-16
END:VEVENT
END:VCALENDAR
