BEGIN:VCALENDAR
VERSION:2.0
PRODID:icalendar-ruby
CALSCALE:GREGORIAN
METHOD:PUBLISH
BEGIN:VEVENT
DTSTAMP:20260422T121408Z
UID:9-360777@artemuschristianchurch.com
DTSTART:20260909T223000Z
DTEND:20260909T233000Z
CLASS:PUBLIC
CREATED:20260421T212647
DESCRIPTION:
LAST-MODIFIED:20260421T212647
LOCATION:
SUMMARY:Wednesday Night Bible Study
URL;VALUE=URI:https://www.artemuschristianchurch.com/events/wednesday-night
 -bible-study/2026-09-09
END:VEVENT
END:VCALENDAR
