BEGIN:VCALENDAR
VERSION:2.0
PRODID:icalendar-ruby
CALSCALE:GREGORIAN
METHOD:PUBLISH
BEGIN:VEVENT
DTSTAMP:20260422T084327Z
UID:9-360775@artemuschristianchurch.com
DTSTART:20260826T223000Z
DTEND:20260826T233000Z
CLASS:PUBLIC
CREATED:20260421T212647
DESCRIPTION:
LAST-MODIFIED:20260421T212647
LOCATION:
SUMMARY:Wednesday Night Bible Study
URL;VALUE=URI:https://www.artemuschristianchurch.com/events/wednesday-night
 -bible-study/2026-08-26
END:VEVENT
END:VCALENDAR
