BEGIN:VCALENDAR
VERSION:2.0
PRODID:icalendar-ruby
CALSCALE:GREGORIAN
METHOD:PUBLISH
BEGIN:VEVENT
DTSTAMP:20260420T042839Z
UID:9-357081@artemuschristianchurch.com
DTSTART:20260812T223000Z
DTEND:20260812T233000Z
CLASS:PUBLIC
CREATED:20260420T000114
DESCRIPTION:
LAST-MODIFIED:20260420T000114
LOCATION:
SUMMARY:Wednesday Night Bible Study
URL;VALUE=URI:https://www.artemuschristianchurch.com/events/wednesday-night
 -bible-study/2026-08-12
END:VEVENT
END:VCALENDAR
