BEGIN:VCALENDAR
VERSION:2.0
PRODID:icalendar-ruby
CALSCALE:GREGORIAN
METHOD:PUBLISH
BEGIN:VEVENT
DTSTAMP:20260420T024952Z
UID:9-356796@artemuschristianchurch.com
DTSTART:20260805T223000Z
DTEND:20260805T233000Z
CLASS:PUBLIC
CREATED:20260419T202400
DESCRIPTION:
LAST-MODIFIED:20260419T202400
LOCATION:
SUMMARY:Wednesday Night Bible Study
URL;VALUE=URI:https://www.artemuschristianchurch.com/events/wednesday-night
 -bible-study/2026-08-05
END:VEVENT
END:VCALENDAR
