BEGIN:VCALENDAR
VERSION:2.0
PRODID:icalendar-ruby
CALSCALE:GREGORIAN
METHOD:PUBLISH
BEGIN:VEVENT
DTSTAMP:20260419T224346Z
UID:9-356511@artemuschristianchurch.com
DTSTART:20260722T223000Z
DTEND:20260722T233000Z
CLASS:PUBLIC
CREATED:20260419T164152
DESCRIPTION:
LAST-MODIFIED:20260419T164152
LOCATION:
SUMMARY:Wednesday Night Bible Study
URL;VALUE=URI:https://www.artemuschristianchurch.com/events/wednesday-night
 -bible-study/2026-07-22
END:VEVENT
END:VCALENDAR
