BEGIN:VCALENDAR
VERSION:2.0
PRODID:icalendar-ruby
CALSCALE:GREGORIAN
METHOD:PUBLISH
BEGIN:VEVENT
DTSTAMP:20260419T192607Z
UID:9-356226@artemuschristianchurch.com
DTSTART:20260708T223000Z
DTEND:20260708T233000Z
CLASS:PUBLIC
CREATED:20260419T125931
DESCRIPTION:
LAST-MODIFIED:20260419T125931
LOCATION:
SUMMARY:Wednesday Night Bible Study
URL;VALUE=URI:https://www.artemuschristianchurch.com/events/wednesday-night
 -bible-study/2026-07-08
END:VEVENT
END:VCALENDAR
