BEGIN:VCALENDAR
VERSION:2.0
PRODID:icalendar-ruby
CALSCALE:GREGORIAN
METHOD:PUBLISH
BEGIN:VEVENT
DTSTAMP:20260419T122709Z
UID:9-355658@artemuschristianchurch.com
DTSTART:20260610T223000Z
DTEND:20260610T233000Z
CLASS:PUBLIC
CREATED:20260419T035343
DESCRIPTION:
LAST-MODIFIED:20260419T035343
LOCATION:
SUMMARY:Wednesday Night Bible Study
URL;VALUE=URI:https://www.artemuschristianchurch.com/events/wednesday-night
 -bible-study/2026-06-10
END:VEVENT
END:VCALENDAR
