BEGIN:VCALENDAR
VERSION:2.0
PRODID:icalendar-ruby
CALSCALE:GREGORIAN
METHOD:PUBLISH
BEGIN:VEVENT
DTSTAMP:20260422T202043Z
UID:8-361550@artemuschristianchurch.com
DTSTART:20261018T140000Z
DTEND:20261018T150000Z
CLASS:PUBLIC
CREATED:20260422T142408
DESCRIPTION:Sunday School
LAST-MODIFIED:20260422T142408
LOCATION:
SUMMARY:Sunday School
URL;VALUE=URI:https://www.artemuschristianchurch.com/events/sunday-school/2
 026-10-18
END:VEVENT
END:VCALENDAR
