BEGIN:VCALENDAR
VERSION:2.0
PRODID:icalendar-ruby
CALSCALE:GREGORIAN
METHOD:PUBLISH
BEGIN:VEVENT
DTSTAMP:20260422T084600Z
UID:8-360692@artemuschristianchurch.com
DTSTART:20260906T140000Z
DTEND:20260906T150000Z
CLASS:PUBLIC
CREATED:20260421T212646
DESCRIPTION:Sunday School
LAST-MODIFIED:20260421T212646
LOCATION:
SUMMARY:Sunday School
URL;VALUE=URI:https://www.artemuschristianchurch.com/events/sunday-school/2
 026-09-06
END:VEVENT
END:VCALENDAR
