BEGIN:VCALENDAR
VERSION:2.0
PRODID:icalendar-ruby
CALSCALE:GREGORIAN
METHOD:PUBLISH
BEGIN:VEVENT
DTSTAMP:20260420T065655Z
UID:8-356999@artemuschristianchurch.com
DTSTART:20260830T140000Z
DTEND:20260830T150000Z
CLASS:PUBLIC
CREATED:20260420T000114
DESCRIPTION:Sunday School
LAST-MODIFIED:20260420T000114
LOCATION:
SUMMARY:Sunday School
URL;VALUE=URI:https://www.artemuschristianchurch.com/events/sunday-school/2
 026-08-30
END:VEVENT
END:VCALENDAR
