BEGIN:VCALENDAR
VERSION:2.0
PRODID:icalendar-ruby
CALSCALE:GREGORIAN
METHOD:PUBLISH
BEGIN:VEVENT
DTSTAMP:20260420T014100Z
UID:8-356712@artemuschristianchurch.com
DTSTART:20260809T140000Z
DTEND:20260809T150000Z
CLASS:PUBLIC
CREATED:20260419T202359
DESCRIPTION:Sunday School
LAST-MODIFIED:20260419T202359
LOCATION:
SUMMARY:Sunday School
URL;VALUE=URI:https://www.artemuschristianchurch.com/events/sunday-school/2
 026-08-09
END:VEVENT
END:VCALENDAR
