BEGIN:VCALENDAR
VERSION:2.0
PRODID:icalendar-ruby
CALSCALE:GREGORIAN
METHOD:PUBLISH
BEGIN:VEVENT
DTSTAMP:20260419T234253Z
UID:8-356428@artemuschristianchurch.com
DTSTART:20260802T140000Z
DTEND:20260802T150000Z
CLASS:PUBLIC
CREATED:20260419T164152
DESCRIPTION:Sunday School
LAST-MODIFIED:20260419T164152
LOCATION:
SUMMARY:Sunday School
URL;VALUE=URI:https://www.artemuschristianchurch.com/events/sunday-school/2
 026-08-02
END:VEVENT
END:VCALENDAR
